BEGIN:VCALENDAR
VERSION:2.0
PRODID:-//Tukios.com/
BEGIN:VEVENT
UID:84aa1856-cfb2-412d-b51d-08b324d78517@www.ppdfuneral.com
DTSTAMP:20260424T010155Z
DTSTART:20260429T150000Z
DTEND:20260429T160000Z
SUMMARY:Visitation
DESCRIPTION:
URL:https://www.ppdfuneral.com/obituaries/veronica-lewis
LOCATION:Parker Price Cremations, Funerals & Receptions 245 Northwest 
	Independence Avenue  Topeka KS 66608
GEO:39.084599;-95.6641975
END:VEVENT
END:VCALENDAR