BEGIN:VCALENDAR
VERSION:2.0
PRODID:-//Tukios.com/
BEGIN:VEVENT
UID:280154e9-7bdf-4f93-924e-5b4db6be9d5d@www.ppdfuneral.com
DTSTAMP:20260423T213203Z
DTSTART:20260430T160000Z
DTEND:20260430T170000Z
SUMMARY:Funeral Service
DESCRIPTION:
URL:https://www.ppdfuneral.com/obituaries/roy-brown
LOCATION:Grantville United Methodist Church 3724 South Street  Grantville 
	KS 66429
GEO:39.0836126;-95.563761
END:VEVENT
END:VCALENDAR