BEGIN:VCALENDAR
VERSION:2.0
PRODID:-//Tukios.com/
BEGIN:VEVENT
UID:731a7a43-11c3-4d6e-823f-c72d5a597f84@www.ppdfuneral.com
DTSTAMP:20260423T213544Z
DTSTART:20260429T220000Z
DTEND:20260430T000000Z
SUMMARY:Visitation
DESCRIPTION:
URL:https://www.ppdfuneral.com/obituaries/roy-brown
LOCATION:Parker-Price and Davidson 245 Northwest Independence Avenue  
	Topeka KS 66608
GEO:39.084599;-95.6641975
END:VEVENT
END:VCALENDAR