BEGIN:VCALENDAR
VERSION:2.0
PRODID:-//Tukios.com/
BEGIN:VEVENT
UID:716c0f15-bfce-4048-8ed3-954758349ec5@www.ppdfuneral.com
DTSTAMP:20260423T213927Z
DTSTART:20260429T183000Z
DTEND:20260429T193000Z
SUMMARY:Graveside Service
DESCRIPTION:
URL:https://www.ppdfuneral.com/obituaries/kenneth-anthony
LOCATION:Hosey Hill Cemetery Cherokee County, Kansas  Weir KS 66781
GEO:37.3100548;-94.7719043
END:VEVENT
END:VCALENDAR