BEGIN:VCALENDAR
VERSION:2.0
PRODID:-//Tukios.com/
BEGIN:VEVENT
UID:a110794f-c588-4da0-9168-4a0e370e8e35@www.ppdfuneral.com
DTSTAMP:20260423T213209Z
DTSTART:20260428T220000Z
DTEND:20260428T233000Z
SUMMARY:Visitation
DESCRIPTION:
URL:https://www.ppdfuneral.com/obituaries/kenneth-anthony
LOCATION:Parker-Price and Davidson Cremation and Funerals 245 Northwest 
	Independence Avenue  Topeka KS 66608
GEO:39.084599;-95.6641975
END:VEVENT
END:VCALENDAR