BEGIN:VCALENDAR
VERSION:2.0
PRODID:-//Tukios.com/
BEGIN:VEVENT
UID:0aecb127-932c-40fc-b03f-43442d8dba7f@www.ppdfuneral.com
DTSTAMP:20260422T000830Z
DTSTART:20260427T190000Z
DTEND:20260427T200000Z
SUMMARY:Funeral Service
DESCRIPTION:
URL:https://www.ppdfuneral.com/obituaries/david-esparza
LOCATION:Parker Price & Davidson Funeral Home 245 Northwest Independence 
	Avenue  Topeka KS 66608
GEO:39.084599;-95.6641975
END:VEVENT
END:VCALENDAR