BEGIN:VCALENDAR
VERSION:2.0
PRODID:-//Tukios.com/
BEGIN:VEVENT
UID:a0f6410d-7ea0-422f-bfe2-a1c470d86d2e@www.ppdfuneral.com
DTSTAMP:20260421T235652Z
DTSTART:20260427T180000Z
DTEND:20260427T190000Z
SUMMARY:Visitation
DESCRIPTION:
URL:https://www.ppdfuneral.com/obituaries/david-esparza
LOCATION:Parker Price & Davidson Funeral Home 245 Northwest Independence 
	Avenue  Topeka KS 66608
GEO:39.084599;-95.6641975
END:VEVENT
END:VCALENDAR